Workbook

Sheet MONTANTS
C3: Maximum d’excédent : | D3: 250 | F3: Maximum Petite Caisse : | G3: 250
C5: Réserve prudente cible : | D5: 500 | F5: Réserve d’anniversaire : | G5: 25
C8: BALANCE : | D8: =SUM(D33:D108) -> 2908.1 | E8: =SUM(E33:E108) -> 164.4 | F8: =SUM(F33:F108) -> 270 | G8: =SUM(G33:G108) -> 140.17 | H8: =SUM(H33:H108) -> 23 | I8: =SUM(I33:I108) -> 2491 | J8: =D8+E8-F8-G8-H8-I8 -> 148.33
D10: ENTRÉES D’ARGENT | F10: SORTIES D’ARGENT
B11: MOIS | C11: DATE | D11: Collecte | E11: Littérature | F11: Table à café | G11: Littérature | H11: Ad-hoc | I11: Dépôts
B12: =TEXT(C12, "YYYY-MM") -> 2026-03 | C12: 46105
B13: =TEXT(C13, "YYYY-MM") -> 2026-03 | C13: 46098
B14: =TEXT(C14, "YYYY-MM") -> 2026-03 | C14: 46091
B15: =TEXT(C15, "YYYY-MM") -> 2026-03 | C15: 46084
B16: =TEXT(C16, "YYYY-MM") -> 2026-02 | C16: 46077 | D16: 20.25 | F16: 4.5
B17: =TEXT(C17, "YYYY-MM") -> 2026-02 | C17: 46070
B18: =TEXT(C18, "YYYY-MM") -> 2026-02 | C18: 46063
B19: =TEXT(C19, "YYYY-MM") -> 2026-02 | C19: 46056
B20: =TEXT(C20, "YYYY-MM") -> 2026-01 | C20: 46050
B21: =TEXT(C21, "YYYY-MM") -> 2026-01 | C21: 46043
B22: =TEXT(C22, "YYYY-MM") -> 2026-01 | C22: 46036
B23: =TEXT(C23, "YYYY-MM") -> 2026-01 | C23: 46029 | D23: 31 | E23: - | F23: - | G23: - | H23: - | I23: 500
B24: =TEXT(C24, "YYYY-MM") -> 2025-12 | C24: 46021 | D24: FERMÉ | E24: - | F24: - | G24: - | H24: - | I24: -
B25: =TEXT(C25, "YYYY-MM") -> 2025-12 | C25: 46014 | D25: FERMÉ
B26: =TEXT(C26, "YYYY-MM") -> 2025-12 | C26: 46007 | D26: 38.1 | E26: - | F26: - | G26: - | H26: - | I26: -
B27: =TEXT(C27, "YYYY-MM") -> 2025-12 | C27: 46000 | D27: 17 | E27: - | F27: - | G27: - | H27: - | I27: -
B28: =TEXT(C28, "YYYY-MM") -> 2025-12 | C28: 45993 | D28: 0 | E28: - | F28: - | G28: - | H28: - | I28: -
B29: =TEXT(C29, "YYYY-MM") -> 2025-11 | C29: 45986 | D29: 59 | E29: - | F29: - | G29: - | H29: - | I29: -
B30: =TEXT(C30, "YYYY-MM") -> 2025-11 | C30: 45979 | D30: 59 | E30: - | F30: - | G30: - | H30: - | I30: -
B31: =TEXT(C31, "YYYY-MM") -> 2025-11 | C31: 45972 | D31: 0 | E31: - | F31: - | G31: - | H31: - | I31: -
B32: =TEXT(C32, "YYYY-MM") -> 2025-11 | C32: 45965 | D32: 39 | E32: - | F32: - | G32: - | H32: - | I32: -
B33: =TEXT(C33, "YYYY-MM") -> 2025-10 | C33: 45958 | D33: 8 | E33: - | F33: - | G33: - | H33: - | I33: -
B34: =TEXT(C34, "YYYY-MM") -> 2025-10 | C34: 45951 | D34: 73.35 | E34: - | F34: - | G34: - | H34: - | I34: -
B35: =TEXT(C35, "YYYY-MM") -> 2025-10 | C35: 45944 | D35: 36.85 | E35: - | F35: - | G35: - | H35: - | I35: -
B36: =TEXT(C36, "YYYY-MM") -> 2025-10 | C36: 45937 | D36: 30 | E36: - | F36: - | G36: - | H36: - | I36: -
B37: =TEXT(C37, "YYYY-MM") -> 2025-09 | C37: 45930 | D37: 14 | E37: - | F37: - | G37: - | H37: - | I37: -
B38: =TEXT(C38, "YYYY-MM") -> 2025-09 | C38: 45923 | D38: 14.75 | E38: - | F38: 17.26 | G38: - | H38: - | I38: -
B39: =TEXT(C39, "YYYY-MM") -> 2025-09 | C39: 45916 | D39: 32 | E39: - | F39: - | G39: - | H39: - | I39: -
B40: =TEXT(C40, "YYYY-MM") -> 2025-09 | C40: 45909 | D40: 19 | E40: - | F40: - | G40: - | H40: - | I40: 735
B41: =TEXT(C41, "YYYY-MM") -> 2025-09 | C41: 45902 | D41: 8 | E41: - | F41: - | G41: - | H41: - | I41: -
B42: =TEXT(C42, "YYYY-MM") -> 2025-08 | C42: 45895 | D42: 41.6 | E42: - | F42: 23.49 | G42: - | H42: - | I42: -
B43: =TEXT(C43, "YYYY-MM") -> 2025-08 | C43: 45888 | D43: 30 | E43: - | F43: - | G43: - | H43: - | I43: -
B44: =TEXT(C44, "YYYY-MM") -> 2025-08 | C44: 45881 | D44: 35.3 | E44: 5 | F44: - | G44: - | H44: - | I44: -
B45: =TEXT(C45, "YYYY-MM") -> 2025-08 | C45: 45874 | D45: 16 | E45: 5 | F45: 10.18 | G45: - | H45: - | I45: -
B46: =TEXT(C46, "YYYY-MM") -> 2025-07 | C46: 45867 | D46: 54.25 | E46: - | F46: - | G46: - | H46: - | I46: -
...

Sheet 2026-02
C3: GROUPE MÉDITATION
C5: =_xlfn.CONCAT("ÉTAT DES RÉSULTATS – ", UPPER(TEXT(DATE(LEFT(RIGHT(CELL("FILENAME"),7),4),RIGHT(RIGHT(CELL("FILENAME"),7),2),1),"MMMM AAAA"))) -> ÉTAT DES RÉSULTATS – FÉVRIER 2026
E8: SOLDE DE LA PETITE CAISSE AU DÉBUT | G8: ='2026-01'!G22 -> 12.88 | L8: → Montant de la fin du mois dernier
E10: Provisions pour la table à café → | G10: =SUMIF(MONTANTS!B:B,RIGHT(CELL("FILENAME"),7), MONTANTS!F:F) -> 4.5 | L10: N’entrez pas de montants ici ; ils sont calculés automatiquement. Renseignez plutôt la feuille MONTANTS en y insérant vos transactions
E12: Achats de littérature → | G12: =SUMIF(MONTANTS!B:B,RIGHT(CELL("FILENAME"),7), MONTANTS!G:G) -> 0
E14: Dépenses Ad-hoc approuvées → | G14: =SUMIF(MONTANTS!B:B,RIGHT(CELL("FILENAME"),7), MONTANTS!H:H) -> 0
E16: Collectes → | G16: =SUMIF(MONTANTS!B:B,RIGHT(CELL("FILENAME"),7), MONTANTS!D:D) -> 20.25
E18: Ventes de littérature → | G18: =SUMIF(MONTANTS!B:B,RIGHT(CELL("FILENAME"),7), MONTANTS!E:E) -> 0
E20: Dépôt(s) en espèces → | G20: =SUMIF(MONTANTS!B:B,RIGHT(CELL("FILENAME"),7), MONTANTS!I:I) -> 0
E22: SOLDE DE LA PETITE CAISSE À LA FIN | G22: =G8-G10-G12-G14+G16+G18-G20 -> 28.63 | L22: ="→ Maximum autorisé : "&MaximumPetiteCaisse&" sinon c'est drapeau rouge." -> → Maximum autorisé : 250 sinon c'est drapeau rouge.
E26: SOLDE DU COMPTE AU DÉBUT | G26: ='2026-01'!G68 -> 464.24 | L26: → Montant de la fin du mois dernier
E28: Réserve prudente → | G28: 200 | L28: → Montant de la fin du mois dernier
E30: Réserve d’anniversaire → | G30: ='2026-01'!G72 -> 270 | L30: → Montant de la fin du mois dernier
E32: Provision pour chèques / virements → | L32: → Montant de la fin du mois dernier
E34: Excédent | G34: =G26-SUM(G27:G33)+G8 -> 7.12 | L34: ="→ Tourne au rouge si > "&MaximumExcédent&" car il doit y avoir une bonne raison." -> → Tourne au rouge si > 250 car il doit y avoir une bonne raison.
E38: RETRAITS | G38: =SUM(G39:G47) -> 7
E40: Loyer | G40: 0
L42: ! À faire approuver à posteriori
E44: Chèques / Virements (Planifiés) | L44: ! Attention si le mois n’est pas terminé
E46: Frais bancaires | G46: 7 | L46: ! Attention si le mois n’est pas terminé
E50: DÉPÔTS | G50: =SUM(G51:G57) -> 0
E52: Dons par chèque / virement | G52: 0 | L52: → Chèques / Virements
L54: → Revenu divers
E56: Dépôt(s) en espèces de la Petite Caisse | G56: =G20 -> 0
E60: DISTRIBUTION DE L’EXCÉDENT | G60: =SUM(G62:G65) -> 0 | L60: → Attributions automatiques
E62: District 87-16 | L62: → Calculé selon nos règles concernant l’argent
E64: Centre de Bénévolat de Saint-Basile | L64: → Calculé selon nos règles concernant l’argent
E68: SOLDE DU COMPTE À LA FIN | G68: =G26-G38+G50 -> 457.24 | L68: → Solde attendu à la fin du mois sur le relevé bancaire
E70: Réserve prudente | G70: 200 | L70: → L’objectif du groupe est de : | M70: =réserveCible -> 500 | N70: Ajuster au besoin.
E72: Réserve d’anniversaire | G72: =G30+réserveAnniversaire -> 295 | L72: → Le montant par défaut est | M72: =réserveAnniversaire -> 25
E74: Provision pour chèques / virements | L74: → Somme engagée. Entrée manuelle. Doit couvrir toutes nos promesses d’Ivrognes
E76: Excédent | G76: =G68-G70-G72-G74+G22 -> -9.13 | L76: ="→ Tourne au rouge si > "&MaximumExcédent&" car il doit y avoir une bonne raison." -> → Tourne au rouge si > 250 car il doit y avoir une bonne raison.
C80: Préparé par :
C81: Daniel Allaire
C82: Trésorier

Sheet 2026-01
C3: GROUPE MÉDITATION
C5: =_xlfn.CONCAT("ÉTAT DES RÉSULTATS – ", UPPER(TEXT(DATE(LEFT(RIGHT(CELL("FILENAME"),7),4),RIGHT(RIGHT(CELL("FILENAME"),7),2),1),"MMMM AAAA"))) -> ÉTAT DES RÉSULTATS – JANVIER 2026
E8: SOLDE DE LA PETITE CAISSE AU DÉBUT | G8: ='2025-12'!G22 -> 481.88 | L8: → Montant de la fin du mois dernier
E10: Provisions pour la table à café → | G10: =SUMIF(MONTANTS!B:B,RIGHT(CELL("FILENAME"),7), MONTANTS!F:F) -> 0 | L10: N’entrez pas de montants ici ; ils sont calculés automatiquement. Renseignez plutôt la feuille MONTANTS en y insérant vos transactions
E12: Achats de littérature → | G12: =SUMIF(MONTANTS!B:B,RIGHT(CELL("FILENAME"),7), MONTANTS!G:G) -> 0
E14: Dépenses Ad-hoc approuvées → | G14: =SUMIF(MONTANTS!B:B,RIGHT(CELL("FILENAME"),7), MONTANTS!H:H) -> 0
E16: Collectes → | G16: =SUMIF(MONTANTS!B:B,RIGHT(CELL("FILENAME"),7), MONTANTS!D:D) -> 31
E18: Ventes de littérature → | G18: =SUMIF(MONTANTS!B:B,RIGHT(CELL("FILENAME"),7), MONTANTS!E:E) -> 0
E20: Dépôt(s) en espèces → | G20: =SUMIF(MONTANTS!B:B,RIGHT(CELL("FILENAME"),7), MONTANTS!I:I) -> 500
E22: SOLDE DE LA PETITE CAISSE À LA FIN | G22: =G8-G10-G12-G14+G16+G18-G20 -> 12.88 | L22: ="→ Maximum autorisé : "&MaximumPetiteCaisse&" sinon c'est drapeau rouge." -> → Maximum autorisé : 250 sinon c'est drapeau rouge.
E26: SOLDE DU COMPTE AU DÉBUT | G26: ='2025-12'!G68 -> 773.99 | L26: → Montant de la fin du mois dernier
E28: Réserve prudente → | G28: =réserveCible -> 500 | L28: → Montant de la fin du mois dernier
E30: Réserve d’anniversaire → | G30: ='2025-12'!G72 -> 245 | L30: → Montant de la fin du mois dernier
E32: Provision pour chèques / virements → | L32: → Montant de la fin du mois dernier
E34: Excédent | G34: =G26-SUM(G27:G33)+G8 -> 510.87 | L34: ="→ Tourne au rouge si > "&MaximumExcédent&" car il doit y avoir une bonne raison." -> → Tourne au rouge si > 250 car il doit y avoir une bonne raison.
E38: RETRAITS | G38: =SUM(G39:G47) -> 809.75
E40: Loyer | G40: 0
L42: ! À faire approuver à posteriori
E44: Chèques / Virements (Planifiés) | G44: 800 | L44: ! Attention si le mois n’est pas terminé
E46: Frais bancaires | G46: 9.75 | L46: ! Attention si le mois n’est pas terminé
E50: DÉPÔTS | G50: =SUM(G51:G57) -> 500
E52: Dons par chèque / virement | G52: 0 | L52: → Chèques / Virements
L54: → Revenu divers
E56: Dépôt(s) en espèces de la Petite Caisse | G56: =G20 -> 500
E60: DISTRIBUTION DE L’EXCÉDENT | G60: =SUM(G62:G65) -> 0 | L60: → Attributions automatiques
E62: District 87-16 | L62: → Calculé selon nos règles concernant l’argent
E64: Centre de Bénévolat de Saint-Basile | L64: → Calculé selon nos règles concernant l’argent
E68: SOLDE DU COMPTE À LA FIN | G68: =G26-G38+G50 -> 464.24 | L68: → Solde attendu à la fin du mois sur le relevé bancaire
E70: Réserve prudente | G70: 200 | L70: → L’objectif du groupe est de : | M70: =réserveCible -> 500 | N70: Ajuster au besoin.
E72: Réserve d’anniversaire | G72: =G30+réserveAnniversaire -> 270 | L72: → Le montant par défaut est | M72: =réserveAnniversaire -> 25
E74: Provision pour chèques / virements | L74: → Somme engagée. Entrée manuelle. Doit couvrir toutes nos promesses d’Ivrognes
E76: Excédent | G76: =G68-G70-G72-G74+G22 -> 7.12 | L76: ="→ Tourne au rouge si > "&MaximumExcédent&" car il doit y avoir une bonne raison." -> → Tourne au rouge si > 250 car il doit y avoir une bonne raison.
C80: Préparé par :
C81: Daniel Allaire
C82: Trésorier

Sheet 2025-12
C3: GROUPE MÉDITATION
C5: =_xlfn.CONCAT("ÉTAT DES RÉSULTATS – ", UPPER(TEXT(DATE(LEFT(RIGHT(CELL("FILENAME"),7),4),RIGHT(RIGHT(CELL("FILENAME"),7),2),1),"MMMM AAAA"))) -> ÉTAT DES RÉSULTATS – DÉCEMBRE 2025
E8: SOLDE DE LA PETITE CAISSE AU DÉBUT | G8: ='2025-11'!G22 -> 426.78 | L8: → Montant de la fin du mois dernier
E10: Provisions pour la table à café → | G10: =SUMIF(MONTANTS!B:B,RIGHT(CELL("FILENAME"),7), MONTANTS!F:F) -> 0 | L10: N’entrez pas de montants ici ; ils sont calculés automatiquement. Renseignez plutôt la feuille MONTANTS en y insérant vos transactions
E12: Achats de littérature → | G12: =SUMIF(MONTANTS!B:B,RIGHT(CELL("FILENAME"),7), MONTANTS!G:G) -> 0
E14: Dépenses Ad-hoc approuvées → | G14: =SUMIF(MONTANTS!B:B,RIGHT(CELL("FILENAME"),7), MONTANTS!H:H) -> 0
E16: Collectes → | G16: =SUMIF(MONTANTS!B:B,RIGHT(CELL("FILENAME"),7), MONTANTS!D:D) -> 55.1
E18: Ventes de littérature → | G18: =SUMIF(MONTANTS!B:B,RIGHT(CELL("FILENAME"),7), MONTANTS!E:E) -> 0
E20: Dépôt(s) en espèces → | G20: =SUMIF(MONTANTS!B:B,RIGHT(CELL("FILENAME"),7), MONTANTS!I:I) -> 0
E22: SOLDE DE LA PETITE CAISSE À LA FIN | G22: =G8-G10-G12-G14+G16+G18-G20 -> 481.88 | L22: ="→ Maximum autorisé : "&MaximumPetiteCaisse&" sinon c'est drapeau rouge." -> → Maximum autorisé : 250 sinon c'est drapeau rouge.
E26: SOLDE DU COMPTE AU DÉBUT | G26: ='2025-11'!G68 -> 780.99 | L26: → Montant de la fin du mois dernier
E28: Réserve prudente → | G28: =réserveCible -> 500 | L28: → Montant de la fin du mois dernier
E30: Réserve d’anniversaire → | G30: ='2025-11'!G72 -> 220 | L30: → Montant de la fin du mois dernier
E32: Provision pour chèques / virements → | G32: ='2025-11'!G74 -> 500 | L32: → Montant de la fin du mois dernier
E34: Excédent | G34: =G26-SUM(G27:G33)+G8 -> -12.23 | L34: ="→ Tourne au rouge si > "&MaximumExcédent&" car il doit y avoir une bonne raison." -> → Tourne au rouge si > 250 car il doit y avoir une bonne raison.
E38: RETRAITS | G38: =SUM(G39:G47) -> 7
E40: Loyer | G40: 0
L42: ! À faire approuver à posteriori
E44: Chèques / Virements (Planifiés) | L44: ! Attention si le mois n’est pas terminé
E46: Frais bancaires | G46: 7 | L46: ! Attention si le mois n’est pas terminé
E50: DÉPÔTS | G50: =SUM(G51:G57) -> 0
E52: Dons par chèque / virement | G52: 0 | L52: → Chèques / Virements
L54: → Revenu divers
E56: Dépôt(s) en espèces de la Petite Caisse | G56: =G20 -> 0
E60: DISTRIBUTION DE L’EXCÉDENT | G60: =SUM(G62:G65) -> 0 | L60: → Attributions automatiques
E62: District 87-16 | L62: → Calculé selon nos règles concernant l’argent
E64: Centre de Bénévolat de Saint-Basile | L64: → Calculé selon nos règles concernant l’argent
E68: SOLDE DU COMPTE À LA FIN | G68: =G26-G38+G50 -> 773.99 | L68: → Solde attendu à la fin du mois sur le relevé bancaire
E70: Réserve prudente | G70: =réserveCible -> 500 | L70: → L’objectif du groupe est de : | M70: =réserveCible -> 500 | N70: Ajuster au besoin.
E72: Réserve d’anniversaire | G72: =G30+réserveAnniversaire -> 245 | L72: → Le montant par défaut est | M72: =réserveAnniversaire -> 25
E74: Provision pour chèques / virements | G74: 500 | L74: → Somme engagée. Entrée manuelle. Doit couvrir toutes nos promesses d’Ivrognes
E76: Excédent | G76: =G68-G70-G72-G74+G22 -> 10.87 | L76: ="→ Tourne au rouge si > "&MaximumExcédent&" car il doit y avoir une bonne raison." -> → Tourne au rouge si > 250 car il doit y avoir une bonne raison.
C80: Préparé par :
C81: Daniel Allaire
C82: Trésorier

Sheet 2025-11
C3: GROUPE MÉDITATION
C5: =_xlfn.CONCAT("ÉTAT DES RÉSULTATS – ", UPPER(TEXT(DATE(LEFT(RIGHT(CELL("FILENAME"),7),4),RIGHT(RIGHT(CELL("FILENAME"),7),2),1),"MMMM AAAA"))) -> ÉTAT DES RÉSULTATS – NOVEMBRE 2025
E8: SOLDE DE LA PETITE CAISSE AU DÉBUT | G8: ='2025-10'!G22 -> 269.78 | L8: → Montant de la fin du mois dernier
E10: Provisions pour la table à café → | G10: =SUMIF(MONTANTS!B:B,RIGHT(CELL("FILENAME"),7), MONTANTS!F:F) -> 0 | L10: N’entrez pas de montants ici ; ils sont calculés automatiquement. Renseignez plutôt la feuille MONTANTS en y insérant vos transactions
E12: Achats de littérature → | G12: =SUMIF(MONTANTS!B:B,RIGHT(CELL("FILENAME"),7), MONTANTS!G:G) -> 0
E14: Dépenses Ad-hoc approuvées → | G14: =SUMIF(MONTANTS!B:B,RIGHT(CELL("FILENAME"),7), MONTANTS!H:H) -> 0
E16: Collectes → | G16: =SUMIF(MONTANTS!B:B,RIGHT(CELL("FILENAME"),7), MONTANTS!D:D) -> 157
E18: Ventes de littérature → | G18: =SUMIF(MONTANTS!B:B,RIGHT(CELL("FILENAME"),7), MONTANTS!E:E) -> 0
E20: Dépôt(s) en espèces → | G20: =SUMIF(MONTANTS!B:B,RIGHT(CELL("FILENAME"),7), MONTANTS!I:I) -> 0
E22: SOLDE DE LA PETITE CAISSE À LA FIN | G22: =G8-G10-G12-G14+G16+G18-G20 -> 426.78 | L22: ="→ Maximum autorisé : "&MaximumPetiteCaisse&" sinon c'est drapeau rouge." -> → Maximum autorisé : 250 sinon c'est drapeau rouge.
E26: SOLDE DU COMPTE AU DÉBUT | G26: ='2025-10'!G68 -> 1066.95 | L26: → Montant de la fin du mois dernier
E28: Réserve prudente → | G28: =réserveCible -> 500 | L28: → Montant de la fin du mois dernier
E30: Réserve d’anniversaire → | G30: ='2025-10'!G72 -> 195 | L30: → Montant de la fin du mois dernier
E32: Provision pour chèques / virements → | G32: ='2025-10'!G74 -> 250 | L32: → Montant de la fin du mois dernier
E34: Excédent | G34: =G26-SUM(G27:G33)+G8 -> 391.73 | L34: ="→ Tourne au rouge si > "&MaximumExcédent&" car il doit y avoir une bonne raison." -> → Tourne au rouge si > 250 car il doit y avoir une bonne raison.
E38: RETRAITS | G38: =SUM(G39:G47) -> 300.96
E40: Loyer | G40: 0
E42: Remboursement frais Martin | G42: 40.96 | L42: ! À faire approuver à posteriori
E44: Chèques / Virements (Planifiés) | G44: 250 | L44: ! Attention si le mois n’est pas terminé
E46: Frais bancaires | G46: 10 | L46: ! Attention si le mois n’est pas terminé
E50: DÉPÔTS | G50: =SUM(G51:G57) -> 15
E52: Dons par chèque / virement | G52: 15 | L52: → Chèques / Virements
L54: → Revenu divers
E56: Dépôt(s) en espèces de la Petite Caisse | G56: =G20 -> 0
E60: DISTRIBUTION DE L’EXCÉDENT | G60: =SUM(G62:G65) -> 0 | L60: → Attributions automatiques
E62: District 87-16 | L62: → Calculé selon nos règles concernant l’argent
E64: Centre de Bénévolat de Saint-Basile | L64: → Calculé selon nos règles concernant l’argent
E68: SOLDE DU COMPTE À LA FIN | G68: =G26-G38+G50 -> 780.99 | L68: → Solde attendu à la fin du mois sur le relevé bancaire
E70: Réserve prudente | G70: =réserveCible -> 500 | L70: → L’objectif du groupe est de : | M70: =réserveCible -> 500 | N70: Ajuster au besoin.
E72: Réserve d’anniversaire | G72: =G30+réserveAnniversaire -> 220 | L72: → Le montant par défaut est | M72: =réserveAnniversaire -> 25
E74: Provision pour chèques / virements | G74: 500 | L74: → Somme engagée. Entrée manuelle. Doit couvrir toutes nos promesses d’Ivrognes
E76: Excédent | G76: =G68-G70-G72-G74+G22 -> -12.23 | L76: ="→ Tourne au rouge si > "&MaximumExcédent&" car il doit y avoir une bonne raison." -> → Tourne au rouge si > 250 car il doit y avoir une bonne raison.
C80: Préparé par :
C81: Daniel Allaire
C82: Trésorier

Sheet 2025-10
C3: GROUPE MÉDITATION
C5: =_xlfn.CONCAT("ÉTAT DES RÉSULTATS – ", UPPER(TEXT(DATE(LEFT(RIGHT(CELL("FILENAME"),7),4),RIGHT(RIGHT(CELL("FILENAME"),7),2),1),"MMMM AAAA"))) -> ÉTAT DES RÉSULTATS – OCTOBRE 2025
E8: SOLDE DE LA PETITE CAISSE AU DÉBUT | G8: ='2025-09'!G22 -> 121.58 | L8: → Montant de la fin du mois dernier
E10: Provisions pour la table à café → | G10: =SUMIF(MONTANTS!B:B,RIGHT(CELL("FILENAME"),7), MONTANTS!F:F) -> 0 | L10: N’entrez pas de montants ici ; ils sont calculés automatiquement. Renseignez plutôt la feuille MONTANTS en y insérant vos transactions
E12: Achats de littérature → | G12: =SUMIF(MONTANTS!B:B,RIGHT(CELL("FILENAME"),7), MONTANTS!G:G) -> 0
E14: Dépenses Ad-hoc approuvées → | G14: =SUMIF(MONTANTS!B:B,RIGHT(CELL("FILENAME"),7), MONTANTS!H:H) -> 0
E16: Collectes → | G16: =SUMIF(MONTANTS!B:B,RIGHT(CELL("FILENAME"),7), MONTANTS!D:D) -> 148.2
E18: Ventes de littérature → | G18: =SUMIF(MONTANTS!B:B,RIGHT(CELL("FILENAME"),7), MONTANTS!E:E) -> 0
E20: Dépôt(s) en espèces → | G20: =SUMIF(MONTANTS!B:B,RIGHT(CELL("FILENAME"),7), MONTANTS!I:I) -> 0
E22: SOLDE DE LA PETITE CAISSE À LA FIN | G22: =G8-G10-G12-G14+G16+G18-G20 -> 269.78 | L22: ="→ Maximum autorisé : "&MaximumPetiteCaisse&" sinon c'est drapeau rouge." -> → Maximum autorisé : 250 sinon c'est drapeau rouge.
E26: SOLDE DU COMPTE AU DÉBUT | G26: ='2025-09'!G68 -> 1206.26 | L26: → Montant de la fin du mois dernier
E28: Réserve prudente → | G28: =réserveCible -> 500 | L28: → Montant de la fin du mois dernier
E30: Réserve d’anniversaire → | G30: 170 | L30: → Montant de la fin du mois dernier
E32: Provision pour chèques / virements → | G32: ='2025-09'!G74 -> 400 | L32: → Montant de la fin du mois dernier
E34: Excédent | G34: =G26-SUM(G27:G33)+G8 -> 257.84 | L34: ="→ Tourne au rouge si > "&MaximumExcédent&" car il doit y avoir une bonne raison." -> → Tourne au rouge si > 250 car il doit y avoir une bonne raison.
E38: RETRAITS | G38: =SUM(G39:G47) -> 139.31
E40: Loyer | G40: 0
E42: Remboursement frais Martin | G42: 130.81 | L42: ! À faire approuver à posteriori
E44: Chèques / Virements (Planifiés) | L44: ! Attention si le mois n’est pas terminé
E46: Frais bancaires | G46: 8.5 | L46: ! Attention si le mois n’est pas terminé
E50: DÉPÔTS | G50: =SUM(G51:G57) -> 0
E52: Dons par chèque / virement | G52: 0 | L52: → Chèques / Virements
L54: → Revenu divers
E56: Dépôt(s) en espèces de la Petite Caisse | G56: =G20 -> 0
E60: DISTRIBUTION DE L’EXCÉDENT | G60: =SUM(G62:G65) -> 0 | L60: → Attributions automatiques
E62: District 87-16 | L62: → Calculé selon nos règles concernant l’argent
E64: Centre de Bénévolat de Saint-Basile | L64: → Calculé selon nos règles concernant l’argent
E68: SOLDE DU COMPTE À LA FIN | G68: =G26-G38+G50 -> 1066.95 | L68: → Solde attendu à la fin du mois sur le relevé bancaire
E70: Réserve prudente | G70: =réserveCible -> 500 | L70: → L’objectif du groupe est de : | M70: =réserveCible -> 500 | N70: Ajuster au besoin.
E72: Réserve d’anniversaire | G72: =G30+réserveAnniversaire -> 195 | L72: → Le montant par défaut est | M72: =réserveAnniversaire -> 25
E74: Provision pour chèques / virements | G74: 250 | L74: → Somme engagée. Entrée manuelle. Doit couvrir toutes nos promesses d’Ivrognes
E76: Excédent | G76: =G68-G70-G72-G74+G22 -> 391.73 | L76: ="→ Tourne au rouge si > "&MaximumExcédent&" car il doit y avoir une bonne raison." -> → Tourne au rouge si > 250 car il doit y avoir une bonne raison.
C80: Préparé par :
C81: Daniel Allaire
C82: Trésorier

Sheet 2025-09
C3: GROUPE MÉDITATION
C5: =_xlfn.CONCAT("ÉTAT DES RÉSULTATS – ", UPPER(TEXT(DATE(LEFT(RIGHT(CELL("FILENAME"),7),4),RIGHT(RIGHT(CELL("FILENAME"),7),2),1),"MMMM AAAA"))) -> ÉTAT DES RÉSULTATS – SEPTEMBRE 2025
E8: SOLDE DE LA PETITE CAISSE AU DÉBUT | G8: ='2025-08'!G22 -> 786.09 | L8: → Montant de la fin du mois dernier
E10: Provisions pour la table à café → | G10: =SUMIF(MONTANTS!B:B,RIGHT(CELL("FILENAME"),7), MONTANTS!F:F) -> 17.26 | L10: N’entrez pas de montants ici ; ils sont calculés automatiquement. Renseignez plutôt la feuille MONTANTS en y insérant vos transactions
E12: Achats de littérature → | G12: =SUMIF(MONTANTS!B:B,RIGHT(CELL("FILENAME"),7), MONTANTS!G:G) -> 0
E14: Dépenses Ad-hoc approuvées → | G14: =SUMIF(MONTANTS!B:B,RIGHT(CELL("FILENAME"),7), MONTANTS!H:H) -> 0
E16: Collectes → | G16: =SUMIF(MONTANTS!B:B,RIGHT(CELL("FILENAME"),7), MONTANTS!D:D) -> 87.75
E18: Ventes de littérature → | G18: =SUMIF(MONTANTS!B:B,RIGHT(CELL("FILENAME"),7), MONTANTS!E:E) -> 0
E20: Dépôt(s) en espèces → | G20: =SUMIF(MONTANTS!B:B,RIGHT(CELL("FILENAME"),7), MONTANTS!I:I) -> 735
E22: SOLDE DE LA PETITE CAISSE À LA FIN | G22: =G8-G10-G12-G14+G16+G18-G20 -> 121.58 | L22: ="→ Maximum autorisé : "&MaximumPetiteCaisse&" sinon c'est drapeau rouge." -> → Maximum autorisé : 250 sinon c'est drapeau rouge.
E26: SOLDE DU COMPTE AU DÉBUT | G26: ='2025-08'!G68 -> 981.26 | L26: → Montant de la fin du mois dernier
E28: Réserve prudente → | G28: =réserveCible -> 500 | L28: → Montant de la fin du mois dernier
E30: Réserve d’anniversaire → | G30: ='2025-08'!G72 -> 275 | L30: → Montant de la fin du mois dernier
E32: Provision pour chèques / virements → | G32: ='2025-08'!G74 -> 900 | L32: → Montant de la fin du mois dernier
E34: Excédent | G34: =G26-SUM(G27:G33)+G8 -> 92.35 | L34: ="→ Tourne au rouge si > "&MaximumExcédent&" car il doit y avoir une bonne raison." -> → Tourne au rouge si > 250 car il doit y avoir une bonne raison.
E38: RETRAITS | G38: =SUM(G39:G47) -> 510
E40: Loyer | G40: 0
L42: ! À faire approuver à posteriori
E44: Chèques / Virements (Planifiés) | G44: 500 | L44: ! Attention si le mois n’est pas terminé
E46: Frais bancaires | G46: 10 | L46: ! Attention si le mois n’est pas terminé
E50: DÉPÔTS | G50: =SUM(G51:G57) -> 735
E52: Dons par chèque / virement | G52: 0 | L52: → Chèques / Virements
L54: → Revenu divers
E56: Dépôt(s) en espèces de la Petite Caisse | G56: =G20 -> 735
E60: DISTRIBUTION DE L’EXCÉDENT | G60: =SUM(G62:G65) -> 0 | L60: → Attributions automatiques
E62: District 87-16 | L62: → Calculé selon nos règles concernant l’argent
E64: Centre de Bénévolat de Saint-Basile | L64: → Calculé selon nos règles concernant l’argent
E68: SOLDE DU COMPTE À LA FIN | G68: =G26-G38+G50 -> 1206.26 | L68: → Solde attendu à la fin du mois sur le relevé bancaire
E70: Réserve prudente | G70: =réserveCible -> 500 | L70: → L’objectif du groupe est de : | M70: =réserveCible -> 500 | N70: Ajuster au besoin.
E72: Réserve d’anniversaire | G72: =G30+réserveAnniversaire -> 300 | L72: → Le montant par défaut est | M72: =réserveAnniversaire -> 25
E74: Provision pour chèques / virements | G74: 400 | L74: → Somme engagée. Entrée manuelle. Doit couvrir toutes nos promesses d’Ivrognes
E76: Excédent | G76: =G68-G70-G72-G74+G22 -> 127.84 | L76: ="→ Tourne au rouge si > "&MaximumExcédent&" car il doit y avoir une bonne raison." -> → Tourne au rouge si > 250 car il doit y avoir une bonne raison.
C80: Préparé par :
C81: Daniel Allaire
C82: Trésorier

Sheet 2025-08
C3: GROUPE MÉDITATION
C5: =_xlfn.CONCAT("ÉTAT DES RÉSULTATS – ", UPPER(TEXT(DATE(LEFT(RIGHT(CELL("FILENAME"),7),4),RIGHT(RIGHT(CELL("FILENAME"),7),2),1),"MMMM AAAA"))) -> ÉTAT DES RÉSULTATS – AOÛT 2025
E8: SOLDE DE LA PETITE CAISSE AU DÉBUT | G8: ='2025-07'!G22 -> 686.86 | L8: → Montant de la fin du mois dernier
E10: Provisions pour la table à café → | G10: =SUMIF(MONTANTS!B:B,RIGHT(CELL("FILENAME"),7), MONTANTS!F:F) -> 33.67 | L10: N’entrez pas de montants ici ; ils sont calculés automatiquement. Renseignez plutôt la feuille MONTANTS en y insérant vos transactions
E12: Achats de littérature → | G12: =SUMIF(MONTANTS!B:B,RIGHT(CELL("FILENAME"),7), MONTANTS!G:G) -> 0
E14: Dépenses Ad-hoc approuvées → | G14: =SUMIF(MONTANTS!B:B,RIGHT(CELL("FILENAME"),7), MONTANTS!H:H) -> 0
E16: Collectes → | G16: =SUMIF(MONTANTS!B:B,RIGHT(CELL("FILENAME"),7), MONTANTS!D:D) -> 122.9
E18: Ventes de littérature → | G18: =SUMIF(MONTANTS!B:B,RIGHT(CELL("FILENAME"),7), MONTANTS!E:E) -> 10
E20: Dépôt(s) en espèces → | G20: =SUMIF(MONTANTS!B:B,RIGHT(CELL("FILENAME"),7), MONTANTS!I:I) -> 0
E22: SOLDE DE LA PETITE CAISSE À LA FIN | G22: =G8-G10-G12-G14+G16+G18-G20 -> 786.09 | L22: ="→ Maximum autorisé : "&MaximumPetiteCaisse&" sinon c'est drapeau rouge." -> → Maximum autorisé : 250 sinon c'est drapeau rouge.
E26: SOLDE DU COMPTE AU DÉBUT | G26: ='2025-07'!G68 -> 988.26 | L26: → Montant de la fin du mois dernier
E28: Réserve prudente → | G28: =réserveCible -> 500 | L28: → Montant de la fin du mois dernier
E30: Réserve d’anniversaire → | G30: ='2025-07'!G72 -> 250 | L30: → Montant de la fin du mois dernier
E32: Provision pour chèques / virements → | G32: ='2025-07'!G74 -> 0 | L32: → Montant de la fin du mois dernier
E34: Excédent | G34: =G26-SUM(G27:G33)+G8 -> 925.12 | L34: ="→ Tourne au rouge si > "&MaximumExcédent&" car il doit y avoir une bonne raison." -> → Tourne au rouge si > 250 car il doit y avoir une bonne raison.
E38: RETRAITS | G38: =SUM(G39:G47) -> 7
E40: Loyer | G40: 0
L42: ! À faire approuver à posteriori
E44: Chèques / Virements (Planifiés) | G44: 0 | L44: ! Attention si le mois n’est pas terminé
E46: Frais bancaires | G46: 7 | L46: ! Attention si le mois n’est pas terminé
E50: DÉPÔTS | G50: =SUM(G51:G57) -> 0
E52: Dons par chèque / virement | G52: 0 | L52: → Chèques / Virements
L54: → Revenu divers
E56: Dépôt(s) en espèces de la Petite Caisse | G56: =G20 -> 0
E60: DISTRIBUTION DE L’EXCÉDENT | G60: =SUM(G62:G65) -> 0 | L60: → Attributions automatiques
E62: District 87-16 | L62: → Calculé selon nos règles concernant l’argent
E64: Centre de Bénévolat de Saint-Basile | L64: → Calculé selon nos règles concernant l’argent
E68: SOLDE DU COMPTE À LA FIN | G68: =G26-G38+G50 -> 981.26 | L68: → Solde attendu à la fin du mois sur le relevé bancaire
E70: Réserve prudente | G70: =réserveCible -> 500 | L70: → L’objectif du groupe est de : | M70: =réserveCible -> 500 | N70: Ajuster au besoin.
E72: Réserve d’anniversaire | G72: =G30+réserveAnniversaire -> 275 | L72: → Le montant par défaut est | M72: =réserveAnniversaire -> 25
E74: Provision pour chèques / virements | G74: 900 | L74: → Somme engagée. Entrée manuelle. Doit couvrir toutes nos promesses d’Ivrognes
E76: Excédent | G76: =G68-G70-G72-G74+G22 -> 92.35 | L76: ="→ Tourne au rouge si > "&MaximumExcédent&" car il doit y avoir une bonne raison." -> → Tourne au rouge si > 250 car il doit y avoir une bonne raison.
C80: Préparé par :
C81: Daniel Allaire
C82: Trésorier

Sheet 2025-07
C3: GROUPE MÉDITATION
C5: =_xlfn.CONCAT("ÉTAT DES RÉSULTATS – ", UPPER(TEXT(DATE(LEFT(RIGHT(CELL("FILENAME"),7),4),RIGHT(RIGHT(CELL("FILENAME"),7),2),1),"MMMM AAAA"))) -> ÉTAT DES RÉSULTATS – JUILLET 2025
E8: SOLDE DE LA PETITE CAISSE AU DÉBUT | G8: ='2025-06'!G22 -> 490.21 | L8: → Montant de la fin du mois dernier
E10: Provisions pour la table à café → | G10: =SUMIF(MONTANTS!B:B,RIGHT(CELL("FILENAME"),7), MONTANTS!F:F) -> 0 | L10: N’entrez pas de montants ici ; ils sont calculés automatiquement. Renseignez plutôt la feuille MONTANTS en y insérant vos transactions
E12: Achats de littérature → | G12: =SUMIF(MONTANTS!B:B,RIGHT(CELL("FILENAME"),7), MONTANTS!G:G) -> 0
E14: Dépenses Ad-hoc approuvées → | G14: =SUMIF(MONTANTS!B:B,RIGHT(CELL("FILENAME"),7), MONTANTS!H:H) -> 0
E16: Collectes → | G16: =SUMIF(MONTANTS!B:B,RIGHT(CELL("FILENAME"),7), MONTANTS!D:D) -> 196.65
E18: Ventes de littérature → | G18: =SUMIF(MONTANTS!B:B,RIGHT(CELL("FILENAME"),7), MONTANTS!E:E) -> 0
E20: Dépôt(s) en espèces → | G20: =SUMIF(MONTANTS!B:B,RIGHT(CELL("FILENAME"),7), MONTANTS!I:I) -> 0
E22: SOLDE DE LA PETITE CAISSE À LA FIN | G22: =G8-G10-G12-G14+G16+G18-G20 -> 686.86 | L22: ="→ Maximum autorisé : "&MaximumPetiteCaisse&" sinon c'est drapeau rouge." -> → Maximum autorisé : 250 sinon c'est drapeau rouge.
E26: SOLDE DU COMPTE AU DÉBUT | G26: ='2025-06'!G68 -> 995.26 | L26: → Montant de la fin du mois dernier
E28: Réserve prudente → | G28: ='2025-06'!G70 -> 500 | L28: → Montant de la fin du mois dernier
E30: Réserve d’anniversaire → | G30: ='2025-06'!G72 -> 225 | L30: → Montant de la fin du mois dernier
E32: Provision pour chèques / virements → | G32: ='2025-06'!G74 -> 0 | L32: → Montant de la fin du mois dernier
E34: Excédent | G34: =G26-SUM(G27:G33)+G8 -> 760.47 | L34: ="→ Tourne au rouge si > "&MaximumExcédent&" car il doit y avoir une bonne raison." -> → Tourne au rouge si > 250 car il doit y avoir une bonne raison.
E38: RETRAITS | G38: =SUM(G39:G47) -> 7
E40: Loyer | G40: 0
L42: ! À faire approuver à posteriori
E44: Chèques / Virements (Planifiés) | G44: 0 | L44: ! Attention si le mois n’est pas terminé
E46: Frais bancaires | G46: 7 | L46: ! Attention si le mois n’est pas terminé
E50: DÉPÔTS | G50: =SUM(G51:G57) -> 0
E52: Dons par chèque / virement | G52: 0 | L52: → Chèques / Virements
L54: → Revenu divers
E56: Dépôt(s) en espèces de la Petite Caisse | G56: =G20 -> 0
E60: DISTRIBUTION DE L’EXCÉDENT | G60: =SUM(G62:G65) -> 0 | L60: → Attributions automatiques
E62: District 87-16 | L62: → Calculé selon nos règles concernant l’argent
E64: Centre de Bénévolat de Saint-Basile | L64: → Calculé selon nos règles concernant l’argent
E68: SOLDE DU COMPTE À LA FIN | G68: =G26-G38+G50 -> 988.26 | L68: → Solde attendu à la fin du mois sur le relevé bancaire
E70: Réserve prudente | G70: =réserveCible -> 500 | L70: → L’objectif du groupe est de : | M70: =réserveCible -> 500 | N70: Ajuster au besoin.
E72: Réserve d’anniversaire | G72: =G30+réserveAnniversaire -> 250 | L72: → Le montant par défaut est | M72: =réserveAnniversaire -> 25
E74: Provision pour chèques / virements | L74: → Somme engagée. Entrée manuelle. Doit couvrir toutes nos promesses d’Ivrognes
E76: Excédent | G76: =G68-G70-G72-G74+G22 -> 925.12 | L76: ="→ Tourne au rouge si > "&MaximumExcédent&" car il doit y avoir une bonne raison." -> → Tourne au rouge si > 250 car il doit y avoir une bonne raison.
C80: Préparé par :
C81: Daniel Allaire
C82: Trésorier

Sheet 2025-06
C3: GROUPE MÉDITATION
C5: =_xlfn.CONCAT("ÉTAT DES RÉSULTATS – ", UPPER(TEXT(DATE(LEFT(RIGHT(CELL("FILENAME"),7),4),RIGHT(RIGHT(CELL("FILENAME"),7),2),1),"MMMM AAAA"))) -> ÉTAT DES RÉSULTATS – JUIN 2025
E8: SOLDE DE LA PETITE CAISSE AU DÉBUT | G8: ='2025-05'!G22 -> 277.61 | L8: → Montant de la fin du mois dernier
E10: Provisions pour la table à café → | G10: =SUMIF(MONTANTS!B:B,RIGHT(CELL("FILENAME"),7), MONTANTS!F:F) -> 3.85 | L10: N’entrez pas de montants ici ; ils sont calculés automatiquement. Renseignez plutôt la feuille MONTANTS en y insérant vos transactions
E12: Achats de littérature → | G12: =SUMIF(MONTANTS!B:B,RIGHT(CELL("FILENAME"),7), MONTANTS!G:G) -> 0
E14: Dépenses Ad-hoc approuvées → | G14: =SUMIF(MONTANTS!B:B,RIGHT(CELL("FILENAME"),7), MONTANTS!H:H) -> 0
E16: Collectes → | G16: =SUMIF(MONTANTS!B:B,RIGHT(CELL("FILENAME"),7), MONTANTS!D:D) -> 201.45
E18: Ventes de littérature → | G18: =SUMIF(MONTANTS!B:B,RIGHT(CELL("FILENAME"),7), MONTANTS!E:E) -> 15
E20: Dépôt(s) en espèces → | G20: =SUMIF(MONTANTS!B:B,RIGHT(CELL("FILENAME"),7), MONTANTS!I:I) -> 0
E22: SOLDE DE LA PETITE CAISSE À LA FIN | G22: =G8-G10-G12-G14+G16+G18-G20 -> 490.21 | L22: ="→ Maximum autorisé : "&MaximumPetiteCaisse&" sinon c'est drapeau rouge." -> → Maximum autorisé : 250 sinon c'est drapeau rouge.
E26: SOLDE DU COMPTE AU DÉBUT | G26: ='2025-05'!G68 -> 1105.52 | L26: → Montant de la fin du mois dernier
E28: Réserve prudente → | G28: ='2025-05'!G70 -> 500 | L28: → Montant de la fin du mois dernier
E30: Réserve d’anniversaire → | G30: ='2025-05'!G72 -> 200 | L30: → Montant de la fin du mois dernier
E32: Provision pour chèques / virements → | G32: ='2025-05'!G74 -> 0 | L32: → Montant de la fin du mois dernier
E34: Excédent | G34: =G26-SUM(G27:G33)+G8 -> 683.13 | L34: ="→ Tourne au rouge si > "&MaximumExcédent&" car il doit y avoir une bonne raison." -> → Tourne au rouge si > 250 car il doit y avoir une bonne raison.
E38: RETRAITS | G38: =SUM(G39:G47) -> 110.75
E40: Loyer | G40: 0
E42: Remboursement litterature (Yannick) | G42: 102.85 | L42: ! À faire approuver à posteriori
E44: Chèques / Virements (Planifiés) | G44: 0 | L44: ! Attention si le mois n’est pas terminé
E46: Frais bancaires | G46: 7.9 | L46: ! Attention si le mois n’est pas terminé
E50: DÉPÔTS | G50: =SUM(G51:G57) -> 0.49
E52: Dons par chèque / virement | G52: 0 | L52: → Chèques / Virements
E54: Ristourne | G54: 0.49 | L54: → Revenu divers
E56: Dépôt(s) en espèces de la Petite Caisse | G56: =G20 -> 0
E60: DISTRIBUTION DE L’EXCÉDENT | G60: =SUM(G62:G65) -> 0 | L60: → Attributions automatiques
E62: District 87-16 | L62: → Calculé selon nos règles concernant l’argent
E64: Centre de Bénévolat de Saint-Basile | L64: → Calculé selon nos règles concernant l’argent
E68: SOLDE DU COMPTE À LA FIN | G68: =G26-G38+G50 -> 995.26 | L68: → Solde attendu à la fin du mois sur le relevé bancaire
E70: Réserve prudente | G70: =réserveCible -> 500 | L70: → L’objectif du groupe est de : | M70: =réserveCible -> 500 | N70: Ajuster au besoin.
E72: Réserve d’anniversaire | G72: =G30+réserveAnniversaire -> 225 | L72: → Le montant par défaut est | M72: =réserveAnniversaire -> 25
E74: Provision pour chèques / virements | L74: → Somme engagée. Entrée manuelle. Doit couvrir toutes nos promesses d’Ivrognes
E76: Excédent | G76: =G68-G70-G72-G74+G22 -> 760.47 | L76: ="→ Tourne au rouge si > "&MaximumExcédent&" car il doit y avoir une bonne raison." -> → Tourne au rouge si > 250 car il doit y avoir une bonne raison.
C80: Préparé par :
C81: Daniel Allaire
C82: Trésorier

Sheet 2025-05
C3: GROUPE MÉDITATION
C5: =_xlfn.CONCAT("ÉTAT DES RÉSULTATS – ", UPPER(TEXT(DATE(LEFT(RIGHT(CELL("FILENAME"),7),4),RIGHT(RIGHT(CELL("FILENAME"),7),2),1),"MMMM AAAA"))) -> ÉTAT DES RÉSULTATS – MAI 2025
E8: SOLDE DE LA PETITE CAISSE AU DÉBUT | G8: ='2025-04'!G22 -> 249.7 | L8: → Montant de la fin du mois dernier
E10: Provisions pour la table à café → | G10: =SUMIF(MONTANTS!B:B,RIGHT(CELL("FILENAME"),7), MONTANTS!F:F) -> 27.59 | L10: N’entrez pas de montants ici ; ils sont calculés automatiquement. Renseignez plutôt la feuille MONTANTS en y insérant vos transactions
E12: Achats de littérature → | G12: =SUMIF(MONTANTS!B:B,RIGHT(CELL("FILENAME"),7), MONTANTS!G:G) -> 0
E14: Dépenses Ad-hoc approuvées → | G14: =SUMIF(MONTANTS!B:B,RIGHT(CELL("FILENAME"),7), MONTANTS!H:H) -> 0
E16: Collectes → | G16: =SUMIF(MONTANTS!B:B,RIGHT(CELL("FILENAME"),7), MONTANTS!D:D) -> 208.6
E18: Ventes de littérature → | G18: =SUMIF(MONTANTS!B:B,RIGHT(CELL("FILENAME"),7), MONTANTS!E:E) -> 8.9
E20: Dépôt(s) en espèces → | G20: =SUMIF(MONTANTS!B:B,RIGHT(CELL("FILENAME"),7), MONTANTS!I:I) -> 162
E22: SOLDE DE LA PETITE CAISSE À LA FIN | G22: =G8-G10-G12-G14+G16+G18-G20 -> 277.61 | L22: ="→ Maximum autorisé : "&MaximumPetiteCaisse&" sinon c'est drapeau rouge." -> → Maximum autorisé : 250 sinon c'est drapeau rouge.
E26: SOLDE DU COMPTE AU DÉBUT | G26: ='2025-04'!G68 -> 951.77 | L26: → Montant de la fin du mois dernier
E28: Réserve prudente → | G28: ='2025-04'!G70 -> 500 | L28: → Montant de la fin du mois dernier
E30: Réserve d’anniversaire → | G30: ='2025-04'!G72 -> 175 | L30: → Montant de la fin du mois dernier
E32: Provision pour chèques / virements → | G32: ='2025-04'!G74 -> 0 | L32: → Montant de la fin du mois dernier
E34: Excédent | G34: =G26-SUM(G27:G33)+G8 -> 526.47 | L34: ="→ Tourne au rouge si > "&MaximumExcédent&" car il doit y avoir une bonne raison." -> → Tourne au rouge si > 250 car il doit y avoir une bonne raison.
E38: RETRAITS | G38: =SUM(G39:G47) -> 8.25
E40: Loyer | G40: 0
E42: Retrait imprévu et urgent | G42: 0 | L42: ! À faire approuver à posteriori
E44: Chèques / Virements (Planifiés) | G44: 0 | L44: ! Attention si le mois n’est pas terminé
E46: Frais bancaires | G46: 8.25 | L46: ! Attention si le mois n’est pas terminé
E50: DÉPÔTS | G50: =SUM(G51:G57) -> 162
E52: Dons par chèque / virement | G52: 0 | L52: → Chèques / Virements
G54: 0 | L54: → Revenu divers
E56: Dépôt(s) en espèces de la Petite Caisse | G56: =G20 -> 162
E60: DISTRIBUTION DE L’EXCÉDENT | G60: =SUM(G62:G65) -> 0 | L60: → Attributions automatiques
E62: District 87-16 | L62: → Calculé selon nos règles concernant l’argent
E64: Centre de Bénévolat de Saint-Basile | L64: → Calculé selon nos règles concernant l’argent
E68: SOLDE DU COMPTE À LA FIN | G68: =G26-G38+G50 -> 1105.52 | L68: → Solde attendu à la fin du mois sur le relevé bancaire
E70: Réserve prudente | G70: =réserveCible -> 500 | L70: → L’objectif du groupe est de : | M70: =réserveCible -> 500 | N70: Ajuster au besoin.
E72: Réserve d’anniversaire | G72: =G30+réserveAnniversaire -> 200 | L72: → Le montant par défaut est | M72: =réserveAnniversaire -> 25
E74: Provision pour chèques / virements | L74: → Somme engagée. Entrée manuelle. Doit couvrir toutes nos promesses d’Ivrognes
E76: Excédent | G76: =G68-G70-G72-G74+G22 -> 683.13 | L76: ="→ Tourne au rouge si > "&MaximumExcédent&" car il doit y avoir une bonne raison." -> → Tourne au rouge si > 250 car il doit y avoir une bonne raison.
C80: Préparé par :
C81: Daniel Allaire
C82: Trésorier

Sheet 2025-04
C3: GROUPE MÉDITATION
C5: =_xlfn.CONCAT("ÉTAT DES RÉSULTATS – ", UPPER(TEXT(DATE(LEFT(RIGHT(CELL("FILENAME"),7),4),RIGHT(RIGHT(CELL("FILENAME"),7),2),1),"MMMM AAAA"))) -> ÉTAT DES RÉSULTATS – AVRIL 2025
E8: SOLDE DE LA PETITE CAISSE AU DÉBUT | G8: ='2025-03'!G22 -> -5.15 | L8: → Montant de la fin du mois dernier
E10: Provisions pour la table à café → | G10: =SUMIF(MONTANTS!B:B,RIGHT(CELL("FILENAME"),7), MONTANTS!F:F) -> 20.65 | L10: N’entrez pas de montants ici ; ils sont calculés automatiquement. Renseignez plutôt la feuille MONTANTS en y insérant vos transactions
E12: Achats de littérature → | G12: =SUMIF(MONTANTS!B:B,RIGHT(CELL("FILENAME"),7), MONTANTS!G:G) -> 0
E14: Dépenses Ad-hoc approuvées → | G14: =SUMIF(MONTANTS!B:B,RIGHT(CELL("FILENAME"),7), MONTANTS!H:H) -> 0
E16: Collectes → | G16: =SUMIF(MONTANTS!B:B,RIGHT(CELL("FILENAME"),7), MONTANTS!D:D) -> 265.5
E18: Ventes de littérature → | G18: =SUMIF(MONTANTS!B:B,RIGHT(CELL("FILENAME"),7), MONTANTS!E:E) -> 10
E20: Dépôt(s) en espèces → | G20: =SUMIF(MONTANTS!B:B,RIGHT(CELL("FILENAME"),7), MONTANTS!I:I) -> 0
E22: SOLDE DE LA PETITE CAISSE À LA FIN | G22: =G8-G10-G12-G14+G16+G18-G20 -> 249.7 | L22: ="→ Maximum autorisé : "&MaximumPetiteCaisse&" sinon c'est drapeau rouge." -> → Maximum autorisé : 250 sinon c'est drapeau rouge.
E26: SOLDE DU COMPTE AU DÉBUT | G26: ='2025-03'!G68 -> 1211.07 | L26: → Montant de la fin du mois dernier
E28: Réserve prudente → | G28: ='2025-03'!G70 -> 500 | L28: → Montant de la fin du mois dernier
E30: Réserve d’anniversaire → | G30: ='2025-03'!G72 -> 150 | L30: → Montant de la fin du mois dernier
E32: Provision pour chèques / virements → | G32: ='2025-03'!G74 -> 550 | L32: → Montant de la fin du mois dernier
E34: Excédent | G34: =G26-SUM(G27:G33)+G8 -> 5.92 | L34: ="→ Tourne au rouge si > "&MaximumExcédent&" car il doit y avoir une bonne raison." -> → Tourne au rouge si > 250 car il doit y avoir une bonne raison.
E38: RETRAITS | G38: =SUM(G39:G47) -> 559.3
E40: Loyer | G40: 0
E42: Retrait imprévu et urgent | G42: 0 | L42: ! À faire approuver à posteriori
E44: Chèques / Virements (Planifiés) | G44: 550 | L44: ! Attention si le mois n’est pas terminé
E46: Frais bancaires | G46: 9.3 | L46: ! Attention si le mois n’est pas terminé
E50: DÉPÔTS | G50: =SUM(G51:G57) -> 300
E52: Dons par chèque / virement | G52: 0 | L52: → Chèques / Virements
E54: ERREUR : DÉPÔT AU MAUVAIS COMPTE | G54: 300 | L54: → Revenu divers
E56: Dépôt(s) en espèces de la Petite Caisse | G56: =G20 -> 0
E60: DISTRIBUTION DE L’EXCÉDENT | G60: =SUM(G62:G65) -> 0 | L60: → Attributions automatiques
E62: District 87-16 | L62: → Calculé selon nos règles concernant l’argent
E64: Centre de Bénévolat de Saint-Basile | L64: → Calculé selon nos règles concernant l’argent
E68: SOLDE DU COMPTE À LA FIN | G68: =G26-G38+G50 -> 951.77 | L68: → Solde attendu à la fin du mois sur le relevé bancaire
E70: Réserve prudente | G70: =réserveCible -> 500 | L70: → L’objectif du groupe est de : | M70: =réserveCible -> 500 | N70: Ajuster au besoin.
E72: Réserve d’anniversaire | G72: =G30+réserveAnniversaire -> 175 | L72: → Le montant par défaut est | M72: =réserveAnniversaire -> 25
E74: Provision pour chèques / virements | L74: → Somme engagée. Entrée manuelle. Doit couvrir toutes nos promesses d’Ivrognes
E76: Excédent | G76: =G68-G70-G72-G74+G22 -> 526.47 | L76: ="→ Tourne au rouge si > "&MaximumExcédent&" car il doit y avoir une bonne raison." -> → Tourne au rouge si > 250 car il doit y avoir une bonne raison.
C80: Préparé par :
C81: Daniel Allaire
C82: Trésorier

Sheet 2025-03
C3: GROUPE MÉDITATION
C5: =_xlfn.CONCAT("ÉTAT DES RÉSULTATS – ", UPPER(TEXT(DATE(LEFT(RIGHT(CELL("FILENAME"),7),4),RIGHT(RIGHT(CELL("FILENAME"),7),2),1),"MMMM AAAA"))) -> ÉTAT DES RÉSULTATS – MARS 2025
E8: SOLDE DE LA PETITE CAISSE AU DÉBUT | G8: ='2025-02'!G22 -> -42.9 | L8: → Montant de la fin du mois dernier
E10: Provisions pour la table à café → | G10: =SUMIF(MONTANTS!B:B,RIGHT(CELL("FILENAME"),7), MONTANTS!F:F) -> 12.48 | L10: N’entrez pas de montants ici ; ils sont calculés automatiquement. Renseignez plutôt la feuille MONTANTS en y insérant vos transactions
E12: Achats de littérature → | G12: =SUMIF(MONTANTS!B:B,RIGHT(CELL("FILENAME"),7), MONTANTS!G:G) -> 140.17
E14: Dépenses Ad-hoc approuvées → | G14: =SUMIF(MONTANTS!B:B,RIGHT(CELL("FILENAME"),7), MONTANTS!H:H) -> 0
E16: Collectes → | G16: =SUMIF(MONTANTS!B:B,RIGHT(CELL("FILENAME"),7), MONTANTS!D:D) -> 170.8
E18: Ventes de littérature → | G18: =SUMIF(MONTANTS!B:B,RIGHT(CELL("FILENAME"),7), MONTANTS!E:E) -> 19.6
E20: Dépôt(s) en espèces → | G20: =SUMIF(MONTANTS!B:B,RIGHT(CELL("FILENAME"),7), MONTANTS!I:I) -> 0
E22: SOLDE DE LA PETITE CAISSE À LA FIN | G22: =G8-G10-G12-G14+G16+G18-G20 -> -5.15 | L22: ="→ Maximum autorisé : "&MaximumPetiteCaisse&" sinon c'est drapeau rouge." -> → Maximum autorisé : 250 sinon c'est drapeau rouge.
E26: SOLDE DU COMPTE AU DÉBUT | G26: ='2025-02'!G68 -> 1218.07 | L26: → Montant de la fin du mois dernier
E28: Réserve prudente → | G28: ='2025-02'!G70 -> 500 | L28: → Montant de la fin du mois dernier
E30: Réserve d’anniversaire → | G30: ='2025-02'!G72 -> 125 | L30: → Montant de la fin du mois dernier
E32: Provision pour chèques / virements → | G32: ='2025-02'!G74 -> 550 | L32: → Montant de la fin du mois dernier
E34: Excédent | G34: =G26-SUM(G27:G33)+G8 -> 0.17 | L34: ="→ Tourne au rouge si > "&MaximumExcédent&" car il doit y avoir une bonne raison." -> → Tourne au rouge si > 250 car il doit y avoir une bonne raison.
E38: RETRAITS | G38: =SUM(G39:G47) -> 7
E40: Loyer | G40: 0
E42: Retrait imprévu et urgent | G42: 0 | L42: ! À faire approuver à posteriori
E44: Chèques / Virements (Planifiés) | G44: 0 | L44: ! Attention si le mois n’est pas terminé
E46: Frais bancaires | G46: 7 | L46: ! Attention si le mois n’est pas terminé
E50: DÉPÔTS | G50: =SUM(G51:G57) -> 0
E52: Dons par chèque / virement | G52: 0 | L52: → Chèques / Virements
G54: 0 | L54: → Revenu divers
E56: Dépôt(s) en espèces de la Petite Caisse | G56: =G20 -> 0
E60: DISTRIBUTION DE L’EXCÉDENT | G60: =SUM(G62:G65) -> 0 | L60: → Attributions automatiques
E62: District 87-16 | L62: → Calculé selon nos règles concernant l’argent
E64: Centre de Bénévolat de Saint-Basile | L64: → Calculé selon nos règles concernant l’argent
E68: SOLDE DU COMPTE À LA FIN | G68: =G26-G38+G50 -> 1211.07 | L68: → Solde attendu à la fin du mois sur le relevé bancaire
E70: Réserve prudente | G70: =réserveCible -> 500 | L70: → L’objectif du groupe est de : | M70: =réserveCible -> 500 | N70: Ajuster au besoin.
E72: Réserve d’anniversaire | G72: =G30+réserveAnniversaire -> 150 | L72: → Le montant par défaut est | M72: =réserveAnniversaire -> 25
E74: Provision pour chèques / virements | G74: 550 | L74: → Somme engagée. Entrée manuelle. Doit couvrir toutes nos promesses d’Ivrognes
E76: Excédent | G76: =G68-G70-G72-G74+G22 -> 5.92 | L76: ="→ Tourne au rouge si > "&MaximumExcédent&" car il doit y avoir une bonne raison." -> → Tourne au rouge si > 250 car il doit y avoir une bonne raison.
C80: Préparé par :
C81: Daniel Allaire
C82: Trésorier

Sheet 2025-02
C3: GROUPE MÉDITATION
C5: =_xlfn.CONCAT("ÉTAT DES RÉSULTATS – ", UPPER(TEXT(DATE(LEFT(RIGHT(CELL("FILENAME"),7),4),RIGHT(RIGHT(CELL("FILENAME"),7),2),1),"MMMM AAAA"))) -> ÉTAT DES RÉSULTATS – FÉVRIER 2025
E8: SOLDE DE LA PETITE CAISSE AU DÉBUT | G8: ='2025-01'!G22 -> -194.23 | L8: → Montant de la fin du mois dernier
E10: Provisions pour la table à café → | G10: =SUMIF(MONTANTS!B:B,RIGHT(CELL("FILENAME"),7), MONTANTS!F:F) -> 13.17 | L10: N’entrez pas de montants ici ; ils sont calculés automatiquement. Renseignez plutôt la feuille MONTANTS en y insérant vos transactions
E12: Achats de littérature → | G12: =SUMIF(MONTANTS!B:B,RIGHT(CELL("FILENAME"),7), MONTANTS!G:G) -> 0
E14: Dépenses Ad-hoc approuvées → | G14: =SUMIF(MONTANTS!B:B,RIGHT(CELL("FILENAME"),7), MONTANTS!H:H) -> 0
E16: Collectes → | G16: =SUMIF(MONTANTS!B:B,RIGHT(CELL("FILENAME"),7), MONTANTS!D:D) -> 143.5
E18: Ventes de littérature → | G18: =SUMIF(MONTANTS!B:B,RIGHT(CELL("FILENAME"),7), MONTANTS!E:E) -> 21
E20: Dépôt(s) en espèces → | G20: =SUMIF(MONTANTS!B:B,RIGHT(CELL("FILENAME"),7), MONTANTS!I:I) -> 0
E22: SOLDE DE LA PETITE CAISSE À LA FIN | G22: =G8-G10-G12-G14+G16+G18-G20 -> -42.9 | L22: ="→ Maximum autorisé : "&MaximumPetiteCaisse&" sinon c'est drapeau rouge." -> → Maximum autorisé : 250 sinon c'est drapeau rouge.
E26: SOLDE DU COMPTE AU DÉBUT | G26: ='2025-01'!G68 -> 1225.07 | L26: → Montant de la fin du mois dernier
E28: Réserve prudente → | G28: ='2025-01'!G70 -> 500 | L28: → Montant de la fin du mois dernier
E30: Réserve d’anniversaire → | G30: ='2025-01'!G72 -> 100 | L30: → Montant de la fin du mois dernier
E32: Provision pour chèques / virements → | G32: ='2025-01'!G74 -> 0 | L32: → Montant de la fin du mois dernier
E34: Excédent | G34: =G26-SUM(G27:G33)+G8 -> 430.84 | L34: ="→ Tourne au rouge si > "&MaximumExcédent&" car il doit y avoir une bonne raison." -> → Tourne au rouge si > 250 car il doit y avoir une bonne raison.
E38: RETRAITS | G38: =SUM(G39:G47) -> 7
E40: Loyer | G40: 0
E42: Retrait imprévu et urgent | G42: 0 | L42: ! À faire approuver à posteriori
E44: Chèques / Virements (Planifiés) | G44: 0 | L44: ! Attention si le mois n’est pas terminé
E46: Frais bancaires | G46: 7 | L46: ! Attention si le mois n’est pas terminé
E50: DÉPÔTS | G50: =SUM(G51:G57) -> 0
E52: Dons par chèque / virement | G52: 0 | L52: → Chèques / Virements
G54: 0 | L54: → Revenu divers
E56: Dépôt(s) en espèces de la Petite Caisse | G56: =G20 -> 0
E60: DISTRIBUTION DE L’EXCÉDENT | G60: =SUM(G62:G65) -> 550 | L60: → Attributions automatiques
E62: District 87-16 | G62: 300 | L62: → Calculé selon nos règles concernant l’argent
E64: Centre de Bénévolat de Saint-Basile | G64: 250 | L64: → Calculé selon nos règles concernant l’argent
E68: SOLDE DU COMPTE À LA FIN | G68: =G26-G38+G50 -> 1218.07 | L68: → Solde attendu à la fin du mois sur le relevé bancaire
E70: Réserve prudente | G70: =réserveCible -> 500 | L70: → L’objectif du groupe est de : | M70: =réserveCible -> 500 | N70: Ajuster au besoin.
E72: Réserve d’anniversaire | G72: =G30+réserveAnniversaire -> 125 | L72: → Le montant par défaut est | M72: =réserveAnniversaire -> 25
E74: Provision pour chèques / virements | G74: =300+250 -> 550 | L74: → Somme engagée. Entrée manuelle. Doit couvrir toutes nos promesses d’Ivrognes
E76: Excédent | G76: =G68-G70-G72-G74+G22 -> 0.17 | L76: ="→ Tourne au rouge si > "&MaximumExcédent&" car il doit y avoir une bonne raison." -> → Tourne au rouge si > 250 car il doit y avoir une bonne raison.
C80: Préparé par :
C81: Daniel Allaire
C82: Trésorier

Sheet 2025-01
C3: GROUPE MÉDITATION
C5: =_xlfn.CONCAT("ÉTAT DES RÉSULTATS – ", UPPER(TEXT(DATE(LEFT(RIGHT(CELL("FILENAME"),7),4),RIGHT(RIGHT(CELL("FILENAME"),7),2),1),"MMMM AAAA"))) -> ÉTAT DES RÉSULTATS – JANVIER 2025
E8: SOLDE DE LA PETITE CAISSE AU DÉBUT | G8: ='2024-12'!G22 -> 100.42 | L8: → Montant de la fin du mois dernier
E10: Provisions pour la table à café → | G10: =SUMIF(MONTANTS!B:B,RIGHT(CELL("FILENAME"),7), MONTANTS!F:F) -> 0 | L10: N’entrez pas de montants ici ; ils sont calculés automatiquement. Renseignez plutôt la feuille MONTANTS en y insérant vos transactions
E12: Achats de littérature → | G12: =SUMIF(MONTANTS!B:B,RIGHT(CELL("FILENAME"),7), MONTANTS!G:G) -> 0
E14: Dépenses Ad-hoc approuvées → | G14: =SUMIF(MONTANTS!B:B,RIGHT(CELL("FILENAME"),7), MONTANTS!H:H) -> 23
E16: Collectes → | G16: =SUMIF(MONTANTS!B:B,RIGHT(CELL("FILENAME"),7), MONTANTS!D:D) -> 167.35
E18: Ventes de littérature → | G18: =SUMIF(MONTANTS!B:B,RIGHT(CELL("FILENAME"),7), MONTANTS!E:E) -> 36
E20: Dépôt(s) en espèces → | G20: =SUMIF(MONTANTS!B:B,RIGHT(CELL("FILENAME"),7), MONTANTS!I:I) -> 475
E22: SOLDE DE LA PETITE CAISSE À LA FIN | G22: =G8-G10-G12-G14+G16+G18-G20 -> -194.23 | L22: ="→ Maximum autorisé : "&MaximumPetiteCaisse&" sinon c'est drapeau rouge." -> → Maximum autorisé : 250 sinon c'est drapeau rouge.
E26: SOLDE DU COMPTE AU DÉBUT | G26: ='2024-12'!G68 -> 759.57 | L26: → Montant de la fin du mois dernier
E28: Réserve prudente → | G28: ='2024-12'!G70 -> 500 | L28: → Montant de la fin du mois dernier
E30: Réserve d’anniversaire → | G30: ='2024-12'!G72 -> 75 | L30: → Montant de la fin du mois dernier
E32: Provision pour chèques / virements → | G32: ='2024-12'!G74 -> 0 | L32: → Montant de la fin du mois dernier
E34: Excédent | G34: =G26-SUM(G27:G33)+G8 -> 284.99 | L34: ="→ Tourne au rouge si > "&MaximumExcédent&" car il doit y avoir une bonne raison." -> → Tourne au rouge si > 250 car il doit y avoir une bonne raison.
E38: RETRAITS | G38: =SUM(G39:G47) -> 9.5
E40: Loyer | G40: 0
E42: Retrait imprévu et urgent | G42: 0 | L42: ! À faire approuver à posteriori
E44: Chèques / Virements (Planifiés) | G44: 0 | L44: ! Attention si le mois n’est pas terminé
E46: Frais bancaires | G46: 9.5 | L46: ! Attention si le mois n’est pas terminé
E50: DÉPÔTS | G50: =SUM(G51:G57) -> 475
E52: Dons par chèque / virement | G52: 0 | L52: → Chèques / Virements
G54: 0 | L54: → Revenu divers
E56: Dépôt(s) en espèces de la Petite Caisse | G56: =G20 -> 475
E60: DISTRIBUTION DE L’EXCÉDENT | G60: =SUM(G62:G65) -> 0 | L60: → Attributions automatiques
E62: District 87-16 | G62: 0 | L62: → Calculé selon nos règles concernant l’argent
E64: Centre de Bénévolat de Saint-Basile | G64: 0 | L64: → Calculé selon nos règles concernant l’argent
E68: SOLDE DU COMPTE À LA FIN | G68: =G26-G38+G50 -> 1225.07 | L68: → Solde attendu à la fin du mois sur le relevé bancaire
E70: Réserve prudente | G70: =réserveCible -> 500 | L70: → L’objectif du groupe est de : | M70: =réserveCible -> 500 | N70: Ajuster au besoin.
E72: Réserve d’anniversaire | G72: =G30+réserveAnniversaire -> 100 | L72: → Le montant par défaut est | M72: =réserveAnniversaire -> 25
E74: Provision pour chèques / virements | G74: =G32-G44 -> 0 | L74: → Somme engagée. Entrée manuelle. Doit couvrir toutes nos promesses d’Ivrognes
E76: Excédent | G76: =G68-G70-G72-G74 -> 625.07 | L76: ="→ Tourne au rouge si > "&MaximumExcédent&" car il doit y avoir une bonne raison." -> → Tourne au rouge si > 250 car il doit y avoir une bonne raison.
C80: Préparé par :
C81: Daniel Allaire
C82: Trésorier

Sheet 2024-12
C3: GROUPE MÉDITATION
C5: =_xlfn.CONCAT("ÉTAT DES RÉSULTATS – ", UPPER(TEXT(DATE(LEFT(RIGHT(CELL("FILENAME"),7),4),RIGHT(RIGHT(CELL("FILENAME"),7),2),1),"MMMM AAAA"))) -> ÉTAT DES RÉSULTATS – DÉCEMBRE 2024
E8: SOLDE DE LA PETITE CAISSE AU DÉBUT | G8: ='2024-11'!G22 -> -28.48 | L8: → Montant de la fin du mois dernier
E10: Provisions pour la table à café → | G10: =SUMIF(MONTANTS!B:B,RIGHT(CELL("FILENAME"),7), MONTANTS!F:F) -> 19.35 | L10: N’entrez pas de montants ici ; ils sont calculés automatiquement. Renseignez plutôt la feuille MONTANTS en y insérant vos transactions
E12: Achats de littérature → | G12: =SUMIF(MONTANTS!B:B,RIGHT(CELL("FILENAME"),7), MONTANTS!G:G) -> 0
E14: Dépenses Ad-hoc approuvées → | G14: =SUMIF(MONTANTS!B:B,RIGHT(CELL("FILENAME"),7), MONTANTS!H:H) -> 0
E16: Collectes → | G16: =SUMIF(MONTANTS!B:B,RIGHT(CELL("FILENAME"),7), MONTANTS!D:D) -> 139.35
E18: Ventes de littérature → | G18: =SUMIF(MONTANTS!B:B,RIGHT(CELL("FILENAME"),7), MONTANTS!E:E) -> 8.9
E20: Dépôt(s) en espèces → | G20: =SUMIF(MONTANTS!B:B,RIGHT(CELL("FILENAME"),7), MONTANTS!I:I) -> 0
E22: SOLDE DE LA PETITE CAISSE À LA FIN | G22: =G8-G10-G12-G14+G16+G18-G20 -> 100.42 | L22: ="→ Maximum autorisé : "&MaximumPetiteCaisse&" sinon c'est drapeau rouge." -> → Maximum autorisé : 250 sinon c'est drapeau rouge.
E26: SOLDE DU COMPTE AU DÉBUT | G26: ='2024-11'!G68 -> 967.72 | L26: → Montant de la fin du mois dernier
E28: Réserve prudente → | G28: ='2024-11'!G70 -> 710 | L28: → Montant de la fin du mois dernier
E30: Réserve d’anniversaire → | G30: ='2024-11'!G72 -> 50 | L30: → Montant de la fin du mois dernier
E32: Provision pour chèques / virements → | G32: ='2024-11'!G74 -> 200 | L32: → Montant de la fin du mois dernier
E34: Excédent | G34: =G26-SUM(G27:G33) -> 7.72 | L34: ="→ Tourne au rouge si > "&MaximumExcédent&" car il doit y avoir une bonne raison." -> → Tourne au rouge si > 250 car il doit y avoir une bonne raison.
E38: RETRAITS | G38: =SUM(G39:G47) -> 208.15
E40: Loyer | G40: 0
E42: Retrait imprévu et urgent | G42: 0 | L42: ! À faire approuver à posteriori
E44: Chèques / Virements (Planifiés) | G44: 200 | L44: ! Attention si le mois n’est pas terminé
E46: Frais bancaires | G46: 8.15 | L46: ! Attention si le mois n’est pas terminé
E50: DÉPÔTS | G50: =SUM(G51:G57) -> 0
E52: Dons par chèque / virement | G52: 0 | L52: → Chèques / Virements
G54: 0 | L54: → Revenu divers
E56: Dépôt(s) en espèces de la Petite Caisse | G56: =G20 -> 0
E60: DISTRIBUTION DE L’EXCÉDENT | G60: =SUM(G62:G65) -> 0 | L60: → Attributions automatiques
E62: District 87-16 | G62: 0 | L62: → Calculé selon nos règles concernant l’argent
E64: Centre de Bénévolat de Saint-Basile | G64: 0 | L64: → Calculé selon nos règles concernant l’argent
E68: SOLDE DU COMPTE À LA FIN | G68: =G26-G38+G50 -> 759.57 | L68: → Solde attendu à la fin du mois sur le relevé bancaire
E70: Réserve prudente | G70: =réserveCible -> 500 | L70: → L’objectif du groupe est de : | M70: =réserveCible -> 500 | N70: Ajuster au besoin.
E72: Réserve d’anniversaire | G72: =G30+réserveAnniversaire -> 75 | L72: → Le montant par défaut est | M72: =réserveAnniversaire -> 25
E74: Provision pour chèques / virements | G74: =G32-G44 -> 0 | L74: → Somme engagée. Entrée manuelle. Doit couvrir toutes nos promesses d’Ivrognes
E76: Excédent | G76: =G68-G70-G72-G74+G22 -> 284.99 | L76: ="→ Tourne au rouge si > "&MaximumExcédent&" car il doit y avoir une bonne raison." -> → Tourne au rouge si > 250 car il doit y avoir une bonne raison.
C80: Préparé par :
C81: Daniel Allaire
C82: Trésorier

Sheet 2024-11
C3: GROUPE MÉDITATION
C5: =_xlfn.CONCAT("ÉTAT DES RÉSULTATS – ", UPPER(TEXT(DATE(LEFT(RIGHT(CELL("FILENAME"),7),4),RIGHT(RIGHT(CELL("FILENAME"),7),2),1),"MMMM AAAA"))) -> ÉTAT DES RÉSULTATS – NOVEMBRE 2024
E8: SOLDE DE LA PETITE CAISSE AU DÉBUT | G8: ='2024-10'!G22 -> -181.43 | L8: → Montant de la fin du mois dernier
E10: Provisions pour la table à café → | G10: =SUMIF(MONTANTS!B:B,RIGHT(CELL("FILENAME"),7), MONTANTS!F:F) -> 6.4 | L10: N’entrez pas de montants ici ; ils sont calculés automatiquement. Renseignez plutôt la feuille MONTANTS en y insérant vos transactions
E12: Achats de littérature → | G12: =SUMIF(MONTANTS!B:B,RIGHT(CELL("FILENAME"),7), MONTANTS!G:G) -> 0
E14: Dépenses Ad-hoc approuvées → | G14: =SUMIF(MONTANTS!B:B,RIGHT(CELL("FILENAME"),7), MONTANTS!H:H) -> 0
E16: Collectes → | G16: =SUMIF(MONTANTS!B:B,RIGHT(CELL("FILENAME"),7), MONTANTS!D:D) -> 159.35
E18: Ventes de littérature → | G18: =SUMIF(MONTANTS!B:B,RIGHT(CELL("FILENAME"),7), MONTANTS!E:E) -> 0
E20: Dépôt(s) en espèces → | G20: =SUMIF(MONTANTS!B:B,RIGHT(CELL("FILENAME"),7), MONTANTS!I:I) -> 0
E22: SOLDE DE LA PETITE CAISSE À LA FIN | G22: =G8-G10-G12-G14+G16+G18-G20 -> -28.48 | L22: ="→ Maximum autorisé : "&MaximumPetiteCaisse&" sinon c'est drapeau rouge." -> → Maximum autorisé : 250 sinon c'est drapeau rouge.
E26: SOLDE DU COMPTE AU DÉBUT | G26: ='2024-10'!G68 -> 1975.87 | L26: → Montant de la fin du mois dernier
E28: Réserve prudente → | G28: ='2024-10'!G70 -> 750 | L28: → Montant de la fin du mois dernier
E30: Réserve d’anniversaire → | G30: ='2024-10'!G72 -> 25 | L30: → Montant de la fin du mois dernier
E32: Provision pour chèques / virements → | G32: ='2024-10'!G74 -> 1200 | L32: → Montant de la fin du mois dernier
E34: Excédent | G34: =G26-SUM(G27:G33)+G8 -> -180.56 | L34: ="→ Tourne au rouge si > "&MaximumExcédent&" car il doit y avoir une bonne raison." -> → Tourne au rouge si > 250 car il doit y avoir une bonne raison.
E38: RETRAITS | G38: =SUM(G39:G47) -> 1008.15
E40: Loyer | G40: 0
E42: Retrait imprévu et urgent | G42: 0 | L42: ! À faire approuver à posteriori
E44: Chèques / Virements (Planifiés) | G44: 1000 | L44: ! Attention si le mois n’est pas terminé
E46: Frais bancaires | G46: 8.15 | L46: ! Attention si le mois n’est pas terminé
E50: DÉPÔTS | G50: =SUM(G51:G57) -> 0
E52: Dons par chèque / virement | G52: 0 | L52: → Chèques / Virements
G54: 0 | L54: → Revenu divers
E56: Dépôt(s) en espèces de la Petite Caisse | G56: =G20 -> 0
E60: DISTRIBUTION DE L’EXCÉDENT | G60: =SUM(G62:G65) -> 0 | L60: → Attributions automatiques
E62: District 87-16 | G62: 0 | L62: → Calculé selon nos règles concernant l’argent
E64: Centre de Bénévolat de Saint-Basile | G64: 0 | L64: → Calculé selon nos règles concernant l’argent
E68: SOLDE DU COMPTE À LA FIN | G68: =G26-G38+G50 -> 967.72 | L68: → Solde attendu à la fin du mois sur le relevé bancaire
E70: Réserve prudente | G70: 710 | L70: → L’objectif du groupe est de : | M70: =réserveCible -> 500 | N70: Ajuster au besoin.
E72: Réserve d’anniversaire | G72: =G30+réserveAnniversaire -> 50 | L72: → Le montant par défaut est | M72: =réserveAnniversaire -> 25
E74: Provision pour chèques / virements | G74: =G32-G44 -> 200 | L74: → Somme engagée. Entrée manuelle. Doit couvrir toutes nos promesses d’Ivrognes
E76: Excédent | G76: =G68-G70-G72-G74+G22 -> -20.76 | L76: ="→ Tourne au rouge si > "&MaximumExcédent&" car il doit y avoir une bonne raison." -> → Tourne au rouge si > 250 car il doit y avoir une bonne raison.
C80: Préparé par :
C81: Daniel Allaire
C82: Trésorier

Sheet 2024-10
C3: GROUPE MÉDITATION
C5: =_xlfn.CONCAT("ÉTAT DES RÉSULTATS – ", UPPER(TEXT(DATE(LEFT(RIGHT(CELL("FILENAME"),7),4),RIGHT(RIGHT(CELL("FILENAME"),7),2),1),"MMMM AAAA"))) -> ÉTAT DES RÉSULTATS – OCTOBRE 2024
